BEGIN:VCALENDAR
VERSION:2.0
PRODID:-//Falcone-Club e.V. - ECPv6.15.20//NONSGML v1.0//EN
CALSCALE:GREGORIAN
METHOD:PUBLISH
X-WR-CALNAME:Falcone-Club e.V.
X-ORIGINAL-URL:https://falcone-club.de
X-WR-CALDESC:Veranstaltungen für Falcone-Club e.V.
REFRESH-INTERVAL;VALUE=DURATION:PT1H
X-Robots-Tag:noindex
X-PUBLISHED-TTL:PT1H
BEGIN:VTIMEZONE
TZID:Europe/Paris
BEGIN:DAYLIGHT
TZOFFSETFROM:+0100
TZOFFSETTO:+0200
TZNAME:CEST
DTSTART:20250330T010000
END:DAYLIGHT
BEGIN:STANDARD
TZOFFSETFROM:+0200
TZOFFSETTO:+0100
TZNAME:CET
DTSTART:20251026T010000
END:STANDARD
BEGIN:DAYLIGHT
TZOFFSETFROM:+0100
TZOFFSETTO:+0200
TZNAME:CEST
DTSTART:20260329T010000
END:DAYLIGHT
BEGIN:STANDARD
TZOFFSETFROM:+0200
TZOFFSETTO:+0100
TZNAME:CET
DTSTART:20261025T010000
END:STANDARD
BEGIN:DAYLIGHT
TZOFFSETFROM:+0100
TZOFFSETTO:+0200
TZNAME:CEST
DTSTART:20270328T010000
END:DAYLIGHT
BEGIN:STANDARD
TZOFFSETFROM:+0200
TZOFFSETTO:+0100
TZNAME:CET
DTSTART:20271031T010000
END:STANDARD
END:VTIMEZONE
BEGIN:VEVENT
DTSTART;TZID=Europe/Paris:20260424T020000
DTEND;TZID=Europe/Paris:20260427T015959
DTSTAMP:20260421T155914
CREATED:20241227T091123Z
LAST-MODIFIED:20251114T122445Z
UID:3621-1776996000-1777255199@falcone-club.de
SUMMARY:Frühlingstreffen in Rheine/Elte
DESCRIPTION:Dieses Jahr in einer neuen Location.Das Frühjahrstreffen 2026 findet in Rheine/Elte an der Bockholter Fähre statt. Der Wirt der Gaststätte Bockholter Fähre heißt euch auf seinem Gelände an der letzten Personenfähre der Ems herzlich willkommen.  \n\n\n\n\n\n\n\n \n\n\n\nDetails zum Ablauf werden noch ergänzt.
URL:https://falcone-club.de/event/fruehlingstreffen-grenzland/
END:VEVENT
BEGIN:VEVENT
DTSTART;TZID=Europe/Paris:20260522T020000
DTEND;TZID=Europe/Paris:20260524T200000
DTSTAMP:20260421T155914
CREATED:20241229T153809Z
LAST-MODIFIED:20260328T084022Z
UID:3640-1779415200-1779652800@falcone-club.de
SUMMARY:Oldtimer Classic Weekend\, Perk(BE)
DESCRIPTION:Kasteel Domein van Perk\, Kasteelhoekstraat 1\, 1820 Perk (BE)http://webg.guzziclassic.be/
URL:https://falcone-club.de/event/oldtimer-classic-weekend-perkbe/
END:VEVENT
BEGIN:VEVENT
DTSTART;TZID=Europe/Paris:20260523T100000
DTEND;TZID=Europe/Paris:20260524T200000
DTSTAMP:20260421T155914
CREATED:20241227T091932Z
LAST-MODIFIED:20260328T084518Z
UID:3625-1779530400-1779652800@falcone-club.de
SUMMARY:Coupes Moto Légende Dijon mit Clubstand
DESCRIPTION:Spannende Rennen\, großer Markt und wie im letzten Jahr ein Clubstand unseres Falcone-Clubs. \n\n\n\nhttps://www.coupes-moto-legende.fr
URL:https://falcone-club.de/event/coupes-moto-legende-dijon-mit-clubstand/
END:VEVENT
BEGIN:VEVENT
DTSTART;TZID=Europe/Paris:20260606T000000
DTEND;TZID=Europe/Paris:20260607T235959
DTSTAMP:20260421T155914
CREATED:20260214T095154Z
LAST-MODIFIED:20260214T095154Z
UID:4102-1780704000-1780876799@falcone-club.de
SUMMARY:Brommerrit Luxemburg
DESCRIPTION:
URL:https://falcone-club.de/event/brommerrit-luxemburg/
END:VEVENT
BEGIN:VEVENT
DTSTART;TZID=Europe/Paris:20260610T020000
DTEND;TZID=Europe/Paris:20260621T015959
DTSTAMP:20260421T155914
CREATED:20241229T154428Z
LAST-MODIFIED:20251115T091210Z
UID:3643-1781056800-1782007199@falcone-club.de
SUMMARY:Jubiläumsfahrt nach Mandello
DESCRIPTION:Details folgen.
URL:https://falcone-club.de/event/sommerausfahrt-ins-weserbergland/
END:VEVENT
BEGIN:VEVENT
DTSTART;TZID=Europe/Paris:20260628T000000
DTEND;TZID=Europe/Paris:20260628T235959
DTSTAMP:20260421T155914
CREATED:20260214T095334Z
LAST-MODIFIED:20260214T170030Z
UID:4105-1782604800-1782691199@falcone-club.de
SUMMARY:1-cilinderdag /small-blockdag Boekelo
DESCRIPTION:28. Juni 2026 Beginn: 12:00 Uhr Abfahrt: 13:00 UhrAdresse: De Plooij 30-32\, BoekeloKommission: Die Klassiker-KommissionKontakt: Theo BrinckmanE-Mail: klassiekercommissie@mgcn.nl \n\n\n\nEs ist soweit! Hol deinen 1-Zylinder und Small-Block-V-Twin aus der Scheune\, blas Sie den Staub weg und komm nach Boekelo für einen Tag voller Moto Guzzi-Spaß! Wir starten bei Moto Guzzi Specialist J.R.E. Robers Motoren mit einer Tasse Kaffee und bewundern gegenseitig unsere Motorräder. Danach machen wir eine wunderschöne Tour durch das schöne Overijssel. Bei ausreichender Teilnehmerzahl fahren wir nach dem Follow-up-System.
URL:https://falcone-club.de/event/1-cilinderdag-small-blockdag-boekelo/
END:VEVENT
BEGIN:VEVENT
DTSTART;TZID=Europe/Paris:20260705T020000
DTEND;TZID=Europe/Paris:20260712T015959
DTSTAMP:20260421T155914
CREATED:20241229T154633Z
LAST-MODIFIED:20251114T120955Z
UID:3645-1783216800-1783821599@falcone-club.de
SUMMARY:Milano-Taranto
DESCRIPTION:Vom 05.07.2026 – 11.07.2026 findet die legendäre Langstreckenfahrt mit historischen Motorrädern quer durch Italien von Mailand nach Taranto statt. Weitere Informationen könnt ihr der Homepage des veranstaltenden Clubs entnehmen.http://www.milanotaranto.com
URL:https://falcone-club.de/event/milano-taranto-2/
END:VEVENT
BEGIN:VEVENT
DTSTART;TZID=Europe/Paris:20260717T020000
DTEND;TZID=Europe/Paris:20260720T015959
DTSTAMP:20260421T155914
CREATED:20250715T042050Z
LAST-MODIFIED:20251114T120733Z
UID:3872-1784253600-1784512799@falcone-club.de
SUMMARY:Internationales Pfälzer Moto Guzzi - Treffen
DESCRIPTION:Pfälzer Moto Guzzi – Treffen 2026 in 76889 Vorderweidenthal auf dem Sportgelände des SV-Vorderweidenthal
URL:https://falcone-club.de/event/internationales-pfaelzer-moto-guzzi-treffen/
END:VEVENT
BEGIN:VEVENT
DTSTART;TZID=Europe/Paris:20260724T020000
DTEND;TZID=Europe/Paris:20260727T015959
DTSTAMP:20260421T155914
CREATED:20241229T155132Z
LAST-MODIFIED:20251205T110819Z
UID:3648-1784858400-1785117599@falcone-club.de
SUMMARY:Falcone-Club Sommertreffen
DESCRIPTION:Café alte Schule\, 53804 Much\, Niederbonrath 70Bei Annette + André fühlen wir uns rundum wohl! Zelten\, Bettenlager\, Lagerfeuer. Evtl. Spießbraten. Köstlich!Tolle Gegend für die Ausfahrt\, und mal sehen\, ob es wieder was zu gewinnen gibt. \n\n\n\nCafé Alte Schule
URL:https://falcone-club.de/event/falcone-club-sommertreffen/
END:VEVENT
BEGIN:VEVENT
DTSTART;TZID=Europe/Paris:20260814T000000
DTEND;TZID=Europe/Paris:20260816T235959
DTSTAMP:20260421T155914
CREATED:20260214T095452Z
LAST-MODIFIED:20260214T095452Z
UID:4107-1786665600-1786924799@falcone-club.de
SUMMARY:Klassieker kampeer weekend Wezuperbrug
DESCRIPTION:
URL:https://falcone-club.de/event/klassieker-kampeer-weekend-wezuperbrug/
END:VEVENT
BEGIN:VEVENT
DTSTART;TZID=Europe/Paris:20260821T100000
DTEND;TZID=Europe/Paris:20260823T190000
DTSTAMP:20260421T155914
CREATED:20250713T120132Z
LAST-MODIFIED:20251114T120647Z
UID:3868-1787306400-1787511600@falcone-club.de
SUMMARY:Belgian Classic Trophy Gedinna
DESCRIPTION:
URL:https://falcone-club.de/event/belgian-classic-trophy-gedinna/
END:VEVENT
BEGIN:VEVENT
DTSTART;TZID=Europe/Paris:20260822T020000
DTEND;TZID=Europe/Paris:20260824T015959
DTSTAMP:20260421T155914
CREATED:20250106T070852Z
LAST-MODIFIED:20251114T120554Z
UID:3651-1787364000-1787536799@falcone-club.de
SUMMARY:Kölner Kurs\, Nürburgring
DESCRIPTION:Nachdem wir letztes Jahr das erste Mal dabei waren\, werden wir dieses Jahr erneut mit unserem Team dabei sein.https://nuerburgring.de/events/categories/motorcycle/koelner-kurshttp://www.msc-porz.de
URL:https://falcone-club.de/event/koelner-kurs-nuerburgring/
END:VEVENT
BEGIN:VEVENT
DTSTART;TZID=Europe/Paris:20260901T000000
DTEND;TZID=Europe/Paris:20260910T235959
DTSTAMP:20260421T155914
CREATED:20260216T092806Z
LAST-MODIFIED:20260216T092807Z
UID:4120-1788220800-1789084799@falcone-club.de
SUMMARY:Fahrt des MGCN zum GMG / 105-j Jubileum Moto Guzzi Mandello del Lario
DESCRIPTION:Mandello-Ausfahrt vom 1. bis 10. September \n\n\n\nAlle fünf Jahre organisieren das Oldtimer-Komitee und das Tourenkomitee eine Ausfahrt\, um dieses Jubiläum zu feiern. Dieses Jahr möchten wir diese besondere Wiedereröffnung gemeinsam erleben! \n\n\n\nBegleiten Sie uns auf einer unvergesslichen Reise ins Herz von Moto Guzzi! \n\n\n\n„Gemeinsam nach Mandello – erleben Sie die Geschichte von Guzzi!“ Eingebettet zwischen See und Bergen liegt das historische Moto Guzzi-Werk in Mandello del Lario – ein Ort\, an dem Tradition und Innovation aufeinandertreffen. Dieses Jahr präsentiert Moto Guzzi einen kühnen\, multifunktionalen Raum mit modernster Technologie\, einem neuen Museum\, dem Motoplex-Shop\, einem Café\, Veranstaltungsräumen und immersiven Besuchererlebnissen. Es ist nicht nur ein Werk\, sondern ein Symbol für die Zukunft der Marke und ein Ort von tiefer Bedeutung für Guzzisti weltweit. \n\n\n\nMandello-Rallye vom 1. bis 10. September \n\n\n\nPraktische Informationen:✔ Klassische Motorräder und moderne Guzzis sind willkommen.✔ Gepäckanhänger und Begleitfahrzeug verfügbar.✔ Wenn Sie nicht zelten möchten\, organisieren Sie Ihre Unterkunft (Hotel/Hostel) bitte selbst.✔ Auch die Kosten für die Unterkunft auf dem Campingplatz tragen Sie selbst – wir stellen lediglich die Stellplätze zur Verfügung.✔ Alle Teilnehmer erhalten vorab Informationen zu den Campingplätzen und deren Lage. \n\n\n\nAnmeldung: \n\n\n\nKosten: 40\,00 € (inkl. Rallye-Abzeichen\, GPX-Routendatei\, Begleitfahrzeug und Gepäckanhänger). \n\n\n\nBitte teilen Sie uns mit\, ob Sie zelten oder in einem Hotel übernachten. Mailadresse siehe Bild.
URL:https://falcone-club.de/event/fahrt-des-mgcn-zum-gmg-105-j-jubileum-moto-guzzi-mandello-del-lario/
END:VEVENT
BEGIN:VEVENT
DTSTART;TZID=Europe/Paris:20260903T020000
DTEND;TZID=Europe/Paris:20260907T015959
DTSTAMP:20260421T155914
CREATED:20250106T071315Z
LAST-MODIFIED:20251114T120456Z
UID:3657-1788400800-1788746399@falcone-club.de
SUMMARY:Moto Raduno Mandello del Lario
DESCRIPTION:Normalerweise immer am 2. Wochenende…dieses Jahr eine Woche eher.
URL:https://falcone-club.de/event/moto-raduno-mandello-del-lario/
END:VEVENT
BEGIN:VEVENT
DTSTART;TZID=Europe/Paris:20260913T000000
DTEND;TZID=Europe/Paris:20260913T235959
DTSTAMP:20260421T155914
CREATED:20260214T095637Z
LAST-MODIFIED:20260214T095638Z
UID:4110-1789257600-1789343999@falcone-club.de
SUMMARY:Italdag Beusichem
DESCRIPTION:
URL:https://falcone-club.de/event/italdag-beusichem/
END:VEVENT
BEGIN:VEVENT
DTSTART;TZID=Europe/Paris:20260919T000000
DTEND;TZID=Europe/Paris:20260919T235959
DTSTAMP:20260421T155914
CREATED:20260214T095747Z
LAST-MODIFIED:20260214T095748Z
UID:4112-1789776000-1789862399@falcone-club.de
SUMMARY:Nationaal Veteraan Treffen Woerden
DESCRIPTION:
URL:https://falcone-club.de/event/nationaal-veteraan-treffen-woerden/
END:VEVENT
BEGIN:VEVENT
DTSTART;TZID=Europe/Paris:20261002T020000
DTEND;TZID=Europe/Paris:20261005T015959
DTSTAMP:20260421T155914
CREATED:20250106T072048Z
LAST-MODIFIED:20251205T110737Z
UID:3661-1790906400-1791165599@falcone-club.de
SUMMARY:Falcone-Club Herbsttreffen in Jöckels Alpenroder Hütte
DESCRIPTION:Jöckels Alpenröder Hütte\, Auf dem Gräbersberg\, 57642 Alpenrod/Westerwald www.alpenroeder-huette.de \n\n\n\n\n\n\n\nZiel ist Jöckel’s Alpenröder Hütte. Es handelt sich hier um eine bei Motorradfahrern\, Mountainbikern und Wanderern beliebte Jausenstation in Alpenrod im Westerwald\, deren Wirt Klaus selbst Motorradfahrer ist und früher seine Tochter bei internationalen Sandbahnrennen begleitet hat. \n\n\n\nDetails werden noch bekannt gegeben.
URL:https://falcone-club.de/event/falcone-club-herbsttreffen-in-joeckels-alpenroder-huette/
END:VEVENT
BEGIN:VEVENT
DTSTART;TZID=Europe/Paris:20261009T020000
DTEND;TZID=Europe/Paris:20261012T015959
DTSTAMP:20260421T155914
CREATED:20250106T072250Z
LAST-MODIFIED:20251114T120131Z
UID:3663-1791511200-1791770399@falcone-club.de
SUMMARY:Veterama Mannheim
DESCRIPTION:Auf der diesjährigen Veterama in Mannheim auf dem Maimarktgelände sind wir wie letztes Jahr wieder mit einem eigenen Clubstand vertreten.
URL:https://falcone-club.de/event/veterama-mannheim/
END:VEVENT
BEGIN:VEVENT
DTSTART;TZID=Europe/Paris:20261121T000000
DTEND;TZID=Europe/Paris:20261121T235959
DTSTAMP:20260421T155914
CREATED:20260214T095846Z
LAST-MODIFIED:20260214T095847Z
UID:4115-1795219200-1795305599@falcone-club.de
SUMMARY:KWA Klassieker Winter Middag Tienhoven a/d Lek
DESCRIPTION:
URL:https://falcone-club.de/event/kwa-klassieker-winter-middag-tienhoven-a-d-lek/
END:VEVENT
END:VCALENDAR